BEGIN:VCALENDAR
VERSION:2.0
PRODID:ROCKHAL
BEGIN:VEVENT
UID:6300
DTSTAMP:20211006T190000
DTSTART:20211006T190000
DTEND:20211006T223000
SUMMARY:SUZANE
CLASS:PUBLIC
TRANSP:TRANSPARENT
END:VEVENT
END:VCALENDAR