BEGIN:VCALENDAR
VERSION:2.0
PRODID:ROCKHAL
BEGIN:VEVENT
UID:6358
DTSTAMP:20220403T190000
DTSTART:20220403T190000
DTEND:20220403T223000
SUMMARY:TEXAS
CLASS:PUBLIC
TRANSP:TRANSPARENT
END:VEVENT
END:VCALENDAR