BEGIN:VCALENDAR
VERSION:2.0
PRODID:ROCKHAL
BEGIN:VEVENT
UID:6427
DTSTAMP:20220216T200000
DTSTART:20220216T200000
DTEND:20220216T233000
SUMMARY:THE BOOTLEG BEATLES
CLASS:PUBLIC
TRANSP:TRANSPARENT
END:VEVENT
END:VCALENDAR