BEGIN:VCALENDAR
VERSION:2.0
PRODID:ROCKHAL
BEGIN:VEVENT
UID:6520
DTSTAMP:20220605T193000
DTSTART:20220605T193000
DTEND:20220605T230000
SUMMARY:THE NEAL MORSE BAND
CLASS:PUBLIC
TRANSP:TRANSPARENT
END:VEVENT
END:VCALENDAR