

BEGIN:VCALENDAR
VERSION:2.0
PRODID:ROCKHAL
BEGIN:VEVENT
UID:6081
DTSTAMP:20200609T190000
DTSTART:20200609T190000
DTEND:20200609T223000
SUMMARY:THE OFFSPRING
CLASS:PUBLIC
TRANSP:TRANSPARENT
END:VEVENT
END:VCALENDAR