BEGIN:VCALENDAR
VERSION:2.0
PRODID:ROCKHAL
BEGIN:VEVENT
UID:6306
DTSTAMP:20220607T190000
DTSTART:20220607T190000
DTEND:20220607T223000
SUMMARY:THE OFFSPRING
CLASS:PUBLIC
TRANSP:TRANSPARENT
END:VEVENT
END:VCALENDAR