BEGIN:VCALENDAR
VERSION:2.0
PRODID:ROCKHAL
BEGIN:VEVENT
UID:6480
DTSTAMP:20221024T193000
DTSTART:20221024T193000
DTEND:20221024T230000
SUMMARY:THE RASMUS
CLASS:PUBLIC
TRANSP:TRANSPARENT
END:VEVENT
END:VCALENDAR