BEGIN:VCALENDAR
VERSION:2.0
PRODID:ROCKHAL
BEGIN:VEVENT
UID:4415
DTSTAMP:20151018T200000
DTSTART:20151018T200000
DTEND:20151018T233000
SUMMARY:THE SOFT MOON
CLASS:PUBLIC
TRANSP:TRANSPARENT
END:VEVENT
END:VCALENDAR