

BEGIN:VCALENDAR
VERSION:2.0
PRODID:ROCKHAL
BEGIN:VEVENT
UID:6065
DTSTAMP:20201205T190000
DTSTART:20201205T190000
DTEND:20201205T223000
SUMMARY:TIZIANO FERRO
CLASS:PUBLIC
TRANSP:TRANSPARENT
END:VEVENT
END:VCALENDAR