

BEGIN:VCALENDAR
VERSION:2.0
PRODID:ROCKHAL
BEGIN:VEVENT
UID:6023
DTSTAMP:20200503T200000
DTSTART:20200503T200000
DTEND:20200503T233000
SUMMARY:TYPH BARROW
CLASS:PUBLIC
TRANSP:TRANSPARENT
END:VEVENT
END:VCALENDAR