BEGIN:VCALENDAR
VERSION:2.0
PRODID:ROCKHAL
BEGIN:VEVENT
UID:6392
DTSTAMP:20220429T200000
DTSTART:20220429T200000
DTEND:20220429T233000
SUMMARY:VAN DER GRAAF GENERATOR
CLASS:PUBLIC
TRANSP:TRANSPARENT
END:VEVENT
END:VCALENDAR