BEGIN:VCALENDAR
VERSION:2.0
PRODID:ROCKHAL
BEGIN:VEVENT
UID:6478
DTSTAMP:20220317T190000
DTSTART:20220317T190000
DTEND:20220317T223000
SUMMARY:VIANNEY
CLASS:PUBLIC
TRANSP:TRANSPARENT
END:VEVENT
END:VCALENDAR