

BEGIN:VCALENDAR
VERSION:2.0
PRODID:ROCKHAL
BEGIN:VEVENT
UID:6109
DTSTAMP:20200514T200000
DTSTART:20200514T200000
DTEND:20200514T233000
SUMMARY:VIDEOCLUB
CLASS:PUBLIC
TRANSP:TRANSPARENT
END:VEVENT
END:VCALENDAR