BEGIN:VCALENDAR
VERSION:2.0
PRODID:ROCKHAL
BEGIN:VEVENT
UID:6387
DTSTAMP:20211127T190000
DTSTART:20211127T190000
DTEND:20211127T223000
SUMMARY:VITAA & SLIMANE
CLASS:PUBLIC
TRANSP:TRANSPARENT
END:VEVENT
END:VCALENDAR