

BEGIN:VCALENDAR
VERSION:2.0
PRODID:ROCKHAL
BEGIN:VEVENT
UID:6019
DTSTAMP:20201106T183000
DTSTART:20201106T183000
DTEND:20201106T220000
SUMMARY:ZUCCHERO
CLASS:PUBLIC
TRANSP:TRANSPARENT
END:VEVENT
END:VCALENDAR