BEGIN:VCALENDAR
VERSION:2.0
PRODID:ROCKHAL
BEGIN:VEVENT
UID:6303
DTSTAMP:20220324T190000
DTSTART:20220324T190000
DTEND:20220324T223000
SUMMARY:EVANESCENCE + WITHIN TEMPTATION
CLASS:PUBLIC
TRANSP:TRANSPARENT
END:VEVENT
END:VCALENDAR