BEGIN:VCALENDAR
VERSION:2.0
PRODID:ROCKHAL
BEGIN:VEVENT
UID:6549
DTSTAMP:20220301T183000
DTSTART:20220301T183000
DTEND:20220301T220000
SUMMARY:GOJIRA + ALIEN WEAPONRY + EMPLOYED TO SERVE
CLASS:PUBLIC
TRANSP:TRANSPARENT
END:VEVENT
END:VCALENDAR