BEGIN:VCALENDAR
VERSION:2.0
PRODID:ROCKHAL
BEGIN:VEVENT
UID:4037
DTSTAMP:20150123T200000
DTSTART:20150123T200000
DTEND:20150123T233000
SUMMARY:LOST IN PAIN - "Plague Inc." Album Release Party Show
CLASS:PUBLIC
TRANSP:TRANSPARENT
END:VEVENT
END:VCALENDAR