BEGIN:VCALENDAR
VERSION:2.0
PRODID:ROCKHAL
BEGIN:VEVENT
UID:5455
DTSTAMP:20180517T140000
DTSTART:20180517T140000
DTEND:20180517T173000
SUMMARY:Be a HEARo - MUSIC WORKSHOP - FOR FAMILIES
CLASS:PUBLIC
TRANSP:TRANSPARENT
END:VEVENT
END:VCALENDAR