BEGIN:VCALENDAR
VERSION:2.0
PRODID:ROCKHAL
BEGIN:VEVENT
UID:6384
DTSTAMP:20220204T190000
DTSTART:20220204T190000
DTEND:20220204T223000
SUMMARY:DORNRÖSCHEN - ST. PETERSBURG FESTIVAL BALLET & HUNGARY FESTIVAL ORCHESTRA
CLASS:PUBLIC
TRANSP:TRANSPARENT
END:VEVENT
END:VCALENDAR