BEGIN:VCALENDAR
VERSION:2.0
PRODID:ROCKHAL
BEGIN:VEVENT
UID:3880
DTSTAMP:20141210T200000
DTSTART:20141210T200000
DTEND:20141210T233000
SUMMARY:TONY ALLEN
CLASS:PUBLIC
TRANSP:TRANSPARENT
END:VEVENT
END:VCALENDAR