BEGIN:VCALENDAR
VERSION:2.0
PRODID:ROCKHAL
BEGIN:VEVENT
UID:6411
DTSTAMP:20211218T200000
DTSTART:20211218T200000
DTEND:20211218T233000
SUMMARY:ARNO
CLASS:PUBLIC
TRANSP:TRANSPARENT
END:VEVENT
END:VCALENDAR