BEGIN:VCALENDAR
VERSION:2.0
PRODID:ROCKHAL
BEGIN:VEVENT
UID:6213
DTSTAMP:20220601T190000
DTSTART:20220601T190000
DTEND:20220601T223000
SUMMARY:CAT POWER
CLASS:PUBLIC
TRANSP:TRANSPARENT
END:VEVENT
END:VCALENDAR