BEGIN:VCALENDAR
VERSION:2.0
PRODID:ROCKHAL
BEGIN:VEVENT
UID:6468
DTSTAMP:20220529T180000
DTSTART:20220529T180000
DTEND:20220529T213000
SUMMARY:DANKO JONES
CLASS:PUBLIC
TRANSP:TRANSPARENT
END:VEVENT
END:VCALENDAR