BEGIN:VCALENDAR
VERSION:2.0
PRODID:ROCKHAL
BEGIN:VEVENT
UID:2264
DTSTAMP:20111022T200000
DTSTART:20111022T200000
DTEND:20111022T233000
SUMMARY:FONDATION THIERRY VAN WERVEKE
CLASS:PUBLIC
TRANSP:TRANSPARENT
END:VEVENT
END:VCALENDAR