BEGIN:VCALENDAR
VERSION:2.0
PRODID:ROCKHAL
BEGIN:VEVENT
UID:4285
DTSTAMP:20150508T200000
DTSTART:20150508T200000
DTEND:20150508T233000
SUMMARY:ROCK AGAINST CANCER
CLASS:PUBLIC
TRANSP:TRANSPARENT
END:VEVENT
END:VCALENDAR