BEGIN:VCALENDAR
VERSION:2.0
PRODID:ROCKHAL
BEGIN:VEVENT
UID:5758
DTSTAMP:20190503T200000
DTSTART:20190503T200000
DTEND:20190503T233000
SUMMARY:ROCK AGAINST CANCER
CLASS:PUBLIC
TRANSP:TRANSPARENT
END:VEVENT
END:VCALENDAR