BEGIN:VCALENDAR
VERSION:2.0
PRODID:ROCKHAL
BEGIN:VEVENT
UID:4171
DTSTAMP:20150314T200000
DTSTART:20150314T200000
DTEND:20150314T233000
SUMMARY:SEED TO TREE - "WANDERING" ALBUM RELEASE
CLASS:PUBLIC
TRANSP:TRANSPARENT
END:VEVENT
END:VCALENDAR