BEGIN:VCALENDAR
VERSION:2.0
PRODID:ROCKHAL
BEGIN:VEVENT
UID:4014
DTSTAMP:20150312T190000
DTSTART:20150312T190000
DTEND:20150312T223000
SUMMARY:SHAKA PONK
CLASS:PUBLIC
TRANSP:TRANSPARENT
END:VEVENT
END:VCALENDAR