

BEGIN:VCALENDAR
VERSION:2.0
PRODID:ROCKHAL
BEGIN:VEVENT
UID:1364
DTSTAMP:20100209T200000
DTSTART:20100209T200000
DTEND:20100209T233000
SUMMARY:COMMON FATES + REAL TIME SPINNERS
CLASS:PUBLIC
TRANSP:TRANSPARENT
END:VEVENT
END:VCALENDAR