BEGIN:VCALENDAR
VERSION:2.0
PRODID:ROCKHAL
BEGIN:VEVENT
UID:4236
DTSTAMP:20150410T193000
DTSTART:20150410T193000
DTEND:20150410T230000
SUMMARY:THE BARCODES - "3" ALBUM RELEASE
CLASS:PUBLIC
TRANSP:TRANSPARENT
END:VEVENT
END:VCALENDAR