BEGIN:VCALENDAR
VERSION:2.0
PRODID:ROCKHAL
BEGIN:VEVENT
UID:6425
DTSTAMP:20210712T190000
DTSTART:20210712T190000
DTEND:20210712T223000
SUMMARY:AMON AMARTH
CLASS:PUBLIC
TRANSP:TRANSPARENT
END:VEVENT
END:VCALENDAR