

BEGIN:VCALENDAR
VERSION:2.0
PRODID:ROCKHAL
BEGIN:VEVENT
UID:5501
DTSTAMP:20190210T183000
DTSTART:20190210T183000
DTEND:20190210T220000
SUMMARY:CATS - SUNDAY - 18:30
CLASS:PUBLIC
TRANSP:TRANSPARENT
END:VEVENT
END:VCALENDAR