BEGIN:VCALENDAR
VERSION:2.0
PRODID:ROCKHAL
BEGIN:VEVENT
UID:6424
DTSTAMP:20211126T193000
DTSTART:20211126T193000
DTEND:20211126T230000
SUMMARY:MESHUGGAH + special guest: ZEAL and ARDOR
CLASS:PUBLIC
TRANSP:TRANSPARENT
END:VEVENT
END:VCALENDAR