

BEGIN:VCALENDAR
VERSION:2.0
PRODID:ROCKHAL
BEGIN:VEVENT
UID:5574
DTSTAMP:20190525T200000
DTSTART:20190525T200000
DTEND:20190525T233000
SUMMARY:SEVEN - Soulmate Tour
CLASS:PUBLIC
TRANSP:TRANSPARENT
END:VEVENT
END:VCALENDAR