

BEGIN:VCALENDAR
VERSION:2.0
PRODID:ROCKHAL
BEGIN:VEVENT
UID:5523
DTSTAMP:20190316T190000
DTSTART:20190316T190000
DTEND:20190316T223000
SUMMARY:ZAZ
CLASS:PUBLIC
TRANSP:TRANSPARENT
END:VEVENT
END:VCALENDAR