BEGIN:VCALENDAR
VERSION:2.0
PRODID:ROCKHAL
BEGIN:VEVENT
UID:6327
DTSTAMP:20210522T200000
DTSTART:20210522T200000
DTEND:20210522T233000
SUMMARY:GIANNA NANNINI
CLASS:PUBLIC
TRANSP:TRANSPARENT
END:VEVENT
END:VCALENDAR