

BEGIN:VCALENDAR
VERSION:2.0
PRODID:ROCKHAL
BEGIN:VEVENT
UID:5492
DTSTAMP:20180703T203000
DTSTART:20180703T203000
DTEND:20180704T000000
SUMMARY:GOJIRA
CLASS:PUBLIC
TRANSP:TRANSPARENT
END:VEVENT
END:VCALENDAR