BEGIN:VCALENDAR
VERSION:2.0
PRODID:ROCKHAL
BEGIN:VEVENT
UID:6311
DTSTAMP:20210528T200000
DTSTART:20210528T200000
DTEND:20210528T233000
SUMMARY:LES OGRES DE BARBACK
CLASS:PUBLIC
TRANSP:TRANSPARENT
END:VEVENT
END:VCALENDAR