

BEGIN:VCALENDAR
VERSION:2.0
PRODID:ROCKHAL
BEGIN:VEVENT
UID:5404
DTSTAMP:20180704T190000
DTSTART:20180704T190000
DTEND:20180704T223000
SUMMARY:RINGO STARR AND HIS ALL STARR BAND
CLASS:PUBLIC
TRANSP:TRANSPARENT
END:VEVENT
END:VCALENDAR