BEGIN:VCALENDAR
VERSION:2.0
PRODID:ROCKHAL
BEGIN:VEVENT
UID:6356
DTSTAMP:20210512T200000
DTSTART:20210512T200000
DTEND:20210512T233000
SUMMARY:TYPH BARROW
CLASS:PUBLIC
TRANSP:TRANSPARENT
END:VEVENT
END:VCALENDAR