BEGIN:VCALENDAR
VERSION:2.0
PRODID:ROCKHAL
BEGIN:VEVENT
UID:6265
DTSTAMP:20210509T190000
DTSTART:20210509T190000
DTEND:20210509T223000
SUMMARY:YES
CLASS:PUBLIC
TRANSP:TRANSPARENT
END:VEVENT
END:VCALENDAR